Workbook

Sheet CN BC
A1: UBND THÀNH PHỐ HỒ CHÍ MINH | E1: CỘNG HÒA XÃ HỘI CHỦ NGHĨA VIỆT NAM
A2: TRƯỜNG CAO ĐẲNG LÝ TỰ TRỌNG | E2: Độc lập - Tự do - Hạnh phúc
A3: THÀNH PHỐ HỒ CHÍ MINH
A5: DANH SÁCH NHẬN TÀI LIỆU HỘI THẢO KHOA HỌC COSS2019 - BẢNG TÓM TẮT NGÀY 14/12/2019
A7: TT | C7: Họ và tên | E7: Đơn vị | F7: Số lượng | G7: Ghi chú
A8: 1 | C8: 2 | E8: 3 | F8: 4
A9: 1 | C9: Phạm Hữu | D9: LỘC | E9: Hiệu Trưởng | F9: 4
A10: =+A9+1 -> 2 | C10: Đinh Văn | D10: ĐỆ | E10: Phó Hiệu Trưởng
A11: =+A10+1 -> 3 | C11: Đinh Hồng | D11: MINH | E11: Phó Hiệu Trưởng
A12: =+A11+1 -> 4 | C12: Châu Văn | D12: BẢO | E12: Phó Hiệu Trưởng
A13: =+A12+1 -> 5 | B13: 1 | C13: Lê Hùng | D13: THANH | E13: Phòng TC-HC-TH | F13: 22
A14: =+A13+1 -> 6 | B14: =+B13+1 -> 2 | C14: Phan Thị Ngọc | D14: PHƯỢNG
A15: =+A14+1 -> 7 | B15: =+B14+1 -> 3 | C15: Vũ Như | D15: QUỲNH
A16: =+A15+1 -> 8 | B16: =+B15+1 -> 4 | C16: Nguyễn Thị Bích | D16: LIỄU
A17: =+A16+1 -> 9 | B17: =+B16+1 -> 5 | C17: Nguyễn Văn | D17: CHÌ
A18: =+A17+1 -> 10 | B18: =+B17+1 -> 6 | C18: Trần Thị Ánh | D18: PHƯỢNG
A19: =+A18+1 -> 11 | B19: =+B18+1 -> 7 | C19: Huỳnh Thị Xuân | D19: MAI
A20: =+A19+1 -> 12 | B20: =+B19+1 -> 8 | C20: Trần Thị Phương | D20: OANH
A21: =+A20+1 -> 13 | B21: =+B20+1 -> 9 | C21: Thân Thị | D21: NHUNG
A22: =+A21+1 -> 14 | B22: =+B21+1 -> 10 | C22: Trần Văn Cu | D22: ANH
A23: =+A22+1 -> 15 | B23: =+B22+1 -> 11 | C23: Lê Hồng | D23: PHÚC
A24: =+A23+1 -> 16 | B24: =+B23+1 -> 12 | C24: Phạm Hữu | D24: TẤN
A25: =+A24+1 -> 17 | B25: =+B24+1 -> 13 | C25: Nguyễn Hữu Xuân | D25: VŨ
... A29: =+A28+1 -> 21 | B29: =+B28+1 -> 17 | C29: Nguyễn Thị | D29: VÂN
A30: =+A29+1 -> 22 | B30: =+B29+1 -> 18 | C30: Nguyễn Tiến | D30: HƯNG | E30: Phòng TC-HC-TH
A31: =+A30+1 -> 23 | B31: =+B30+1 -> 19 | C31: Đồng Anh | D31: TUẤN
A32: =+A31+1 -> 24 | B32: =+B31+1 -> 20 | C32: Lê Hồng | D32: SƠN
A33: =+A32+1 -> 25 | B33: =+B32+1 -> 21 | C33: Nguyễn Thanh | D33: HIỀN
A34: =+A33+1 -> 26 | B34: =+B33+1 -> 22 | C34: Trần Thanh | D34: PHƯƠNG
A35: =+A34+1 -> 27 | B35: 1 | C35: Đỗ Văn | D35: TRONG | E35: Phòng QT - DV | F35: 24
A36: =+A35+1 -> 28 | B36: =+B35+1 -> 2 | C36: Nguyễn Trọng | D36: PHÚ
A37: =+A36+1 -> 29 | B37: =+B36+1 -> 3 | C37: Vũ Ngọc | D37: QUANG
A38: =+A37+1 -> 30 | B38: =+B37+1 -> 4 | C38: Giáp Văn | D38: THỊNH
A39: =+A38+1 -> 31 | B39: =+B38+1 -> 5 | C39: Lê Hồng Anh | D39: TUẤN
A40: =+A39+1 -> 32 | B40: =+B39+1 -> 6 | C40: Ninh Đỗ | D40: HIỆP
A41: =+A40+1 -> 33 | B41: =+B40+1 -> 7 | C41: Mai Thu | D41: HƯƠNG
A42: =+A41+1 -> 34 | B42: =+B41+1 -> 8 | C42: Nguyễn Thị Thu | D42: TRANG
A43: =+A42+1 -> 35 | B43: =+B42+1 -> 9 | C43: Trần Thị | D43: THU
A44: =+A43+1 -> 36 | B44: =+B43+1 -> 10 | C44: Thân Thị | D44: QUYẾT
A45: =+A44+1 -> 37 | B45: =+B44+1 -> 11 | C45: Đỗ Thị Bích | D45: THỦY
A46: =+A45+1 -> 38 | B46: =+B45+1 -> 12 | C46: Nguyễn Tiến Việt | D46: DŨNG
A47: =+A46+1 -> 39 | B47: =+B46+1 -> 13 | C47: Bùi Đặng Hoàng | D47: TUẤN
... A54: =+A53+1 -> 46 | B54: =+B53+1 -> 20 | C54: Nguyễn Xuân | D54: LỢI
A55: =+A54+1 -> 47 | B55: =+B54+1 -> 21 | C55: Lê Thị | D55: THIỆN | E55: Phòng QT - DV
A56: =+A55+1 -> 48 | B56: =+B55+1 -> 22 | C56: Trần Thanh | D56: QUÍ
A57: =+A56+1 -> 49 | B57: =+B56+1 -> 23 | C57: Võ Tấn | D57: KIỆT
A58: =+A57+1 -> 50 | B58: =+B57+1 -> 24 | C58: Huỳnh Bá | D58: TRIẾT
A59: =+A58+1 -> 51 | B59: 1 | C59: Bùi Thị Lan | D59: ANH | E59: Trạm Y tế | F59: 2
A60: =+A59+1 -> 52 | B60: =+B59+1 -> 2 | C60: Lê Thị | D60: HUYỀN
A61: =+A60+1 -> 53 | B61: 1 | C61: Hồng Mộng Tuyết | D61: DUNG | E61: Phòng KH - TC | F61: 7
A62: =+A61+1 -> 54 | B62: =+B61+1 -> 2 | C62: Trần Thị Minh | D62: THOA
A63: =+A62+1 -> 55 | B63: =+B62+1 -> 3 | C63: Nguyễn Thị Hồng | D63: THẮM
A64: =+A63+1 -> 56 | B64: =+B63+1 -> 4 | C64: Phạm Lê Đông | D64: HƯNG
A65: =+A64+1 -> 57 | B65: =+B64+1 -> 5 | C65: Đỗ Thị | D65: NGỌC
A66: =+A65+1 -> 58 | B66: =+B65+1 -> 6 | C66: Trần Thị Thảo | D66: VÂN
A67: =+A66+1 -> 59 | B67: =+B66+1 -> 7 | C67: Nguyễn Thị Minh | D67: THÙY
A68: =+A67+1 -> 60 | B68: 1 | C68: Lương Xuân | D68: THỊNH | E68: TT. QH DN | F68: 2
A69: =+A68+1 -> 61 | B69: =+B68+1 -> 2 | C69: Nguyễn Thùy | D69: DƯƠNG
A70: =+A69+1 -> 62 | B70: 1 | C70: Nguyễn Thị Ngọc | D70: ANH | E70: Tổ Thanh tra - Pháp chế | F70: 6
A71: =+A70+1 -> 63 | B71: =+B70+1 -> 2 | C71: Mai Nguyễn Hoàng | D71: YẾN
A72: =+A71+1 -> 64 | B72: =+B71+1 -> 3 | C72: Phạm Huy | D72: HOÀNG
A73: =+A72+1 -> 65 | B73: =+B72+1 -> 4 | C73: Trương Thị | D73: HỒNG
A74: =+A73+1 -> 66 | B74: =+B73+1 -> 5 | C74: Hồ Thị | D74: KHUYÊN
A75: =+A74+1 -> 67 | B75: =+B74+1 -> 6 | C75: Nguyễn Thị | D75: THẢO
A76: =+A75+1 -> 68 | B76: 1 | C76: Nguyễn Thị Kim | D76: ANH | E76: Phòng Công tác CT - HSSV | F76: 16
A77: =+A76+1 -> 69 | B77: =+B76+1 -> 2 | C77: Nguyễn Ngọc | D77: HIỆP
A78: =+A77+1 -> 70 | B78: =+B77+1 -> 3 | C78: Lê Thị | D78: NỮ
A79: =+A78+1 -> 71 | B79: =+B78+1 -> 4 | C79: Phạm Thị Lê | D79: CHI
A80: =+A79+1 -> 72 | B80: =+B79+1 -> 5 | C80: Bùi Thị | D80: DƯƠNG
A81: =+A80+1 -> 73 | B81: =+B80+1 -> 6 | C81: Hà Nhật | D81: THANH
A82: =+A81+1 -> 74 | B82: =+B81+1 -> 7 | C82: Trần Văn | D82: LÝ
A83: =+A82+1 -> 75 | B83: =+B82+1 -> 8 | C83: Trần Thị Thu | D83: HÀ
A84: =+A83+1 -> 76 | B84: =+B83+1 -> 9 | C84: Nguyễn Tất | D84: THẮNG
A85: =+A84+1 -> 77 | B85: =+B84+1 -> 10 | C85: Huỳnh Văn | D85: HIẾU | E85: Phòng CTSV
A86: =+A85+1 -> 78 | B86: =+B85+1 -> 11 | C86: Trịnh Tuấn | D86: VŨ
A87: =+A86+1 -> 79 | B87: =+B86+1 -> 12 | C87: Nguyễn Trung | D87: DŨNG
A88: =+A87+1 -> 80 | B88: =+B87+1 -> 13 | C88: Nguyễn Thị | D88: NHUNG
A89: =+A88+1 -> 81 | B89: =+B88+1 -> 14 | C89: Bùi Đức | D89: PHƯỚC
A90: =+A89+1 -> 82 | B90: =+B89+1 -> 15 | C90: Lê Thị Hà | D90: GIANG
A91: =+A90+1 -> 83 | B91: =+B90+1 -> 16 | C91: Võ Thị | D91: TUYẾT
A92: =+A91+1 -> 84 | B92: 1 | C92: Võ Thị Xuân | D92: THƠ | E92: Phòng TS-ĐT | F92: 12
A93: =+A92+1 -> 85 | B93: =+B92+1 -> 2 | C93: Nguyễn Thị Thanh | D93: THẢO
A94: =+A93+1 -> 86 | B94: =+B93+1 -> 3 | C94: Giáp Thị | D94: VƯỢNG
A95: =+A94+1 -> 87 | B95: =+B94+1 -> 4 | C95: Vương Hội | D95: KHÁNH
A96: =+A95+1 -> 88 | B96: =+B95+1 -> 5 | C96: Nguyễn Thị | D96: THÙY
A97: =+A96+1 -> 89 | B97: =+B96+1 -> 6 | C97: Võ Thị Lệ | D97: TRÂN
A98: =+A97+1 -> 90 | B98: =+B97+1 -> 7 | C98: Nguyễn Thị Hải | D98: HÀ
A99: =+A98+1 -> 91 | B99: =+B98+1 -> 8 | C99: Thái Thị My | D99: SA
A100: =+A99+1 -> 92 | B100: =+B99+1 -> 9 | C100: Võ Minh | D100: PHƯƠNG
A101: =+A100+1 -> 93 | B101: =+B100+1 -> 10 | C101: Nguyễn Việt | D101: TIẾN
A102: =+A101+1 -> 94 | B102: =+B101+1 -> 11 | C102: Nguyễn Thị | D102: TẤT
A103: =+A102+1 -> 95 | B103: =+B102+1 -> 12 | C103: Sỹ Thị | D103: CHUNG
A104: =+A103+1 -> 96 | B104: 1 | C104: Nguyễn Thanh | D104: SƠN | E104: Phòng Khảo thí và ĐBCL | F104: 4
A105: =+A104+1 -> 97 | B105: =+B104+1 -> 2 | C105: Vũ Thị Thu | D105: THỦY | E105: Phòng Khảo thí và ĐBCL
A106: =+A105+1 -> 98 | B106: =+B105+1 -> 3 | C106: Lương Minh | D106: DŨNG
A107: =+A106+1 -> 99 | B107: =+B106+1 -> 4 | C107: Nguyễn Yến | D107: NHI
A108: =+A107+1 -> 100 | B108: 1 | C108: Trương Hữu | D108: LỘC | E108: TT. Điều hành & QLDL | F108: 2
A109: =+A108+1 -> 101 | B109: =+B108+1 -> 2 | C109: Phạm Huỳnh Kim | D109: NGÂN
A110: =+A109+1 -> 102 | B110: 1 | C110: Đặng Thu | D110: HÀ | E110: TT. Thư viện | F110: 5
A111: =+A110+1 -> 103 | B111: =+B110+1 -> 2 | C111: Trần Thị Diễm | D111: THÚY
...

Sheet NH HĐ
A1: ỦY BAN NHÂN DÂN TP. HỒ CHÍ MINH | F1: CỘNG HÒA XÃ HỘI CHỦ NGHĨA VIỆT NAM
A2: TRƯỜNG CĐ KỸ THUẬT LÝ TỰ TRỌNG | F2: Độc lập - tự do - Hạnh phúc
A4: DANH SÁCH NHÂN VIÊN HĐ NGOÀI CHỈ TIÊU BIÊN CHẾ ( TRUNG TÂM DNNH & NBT )
A5: LÃNH THU NHẬP TĂNG THÊM - TIỀN PHỤ CẤP CƠM TRƯA 03/2013
A6: (Căn cứ bảng chấm công tháng 03/2012 của đơn vị)
A8: TT | B8: Họ và Tên | D8: Công việc | E8: Số tài khoản | F8: Số tài khoản | G8: Ngày công | H8: Số tiền | I8: Ghi chú
A10: 1 | B10: Khương Thị Thanh | C10: THÚY | D10: NV | E10: 1603205355891 | F10: 711A74518332 | G10: 26 | H10: =G10*30000 -> 780000
B11: CỘNG | H11: =SUM(H10) -> 780000
B12: Bằng chữ : | C12: Bảy trăm tám mươi nghìn đồng.
I13: .
G14: TPHCM, ngày 04 tháng 04 năm 2013
A15: NGƯỜI LẬP BẢNG | D15: KẾ TOÁN TRƯỞNG | H15: HIỆU TRƯỞNG
A20: Hồ Thị Khuyên | D20: Phạm Ngọc Long | H20: Văn Công Sang

Sheet SV thực tập
A1: ỦY BAN NHÂN DÂN | F1: CỘNG HÒA XÃ HỘI CHỦ NGHĨA VIỆT NAM
A2: THÀNH PHỐ HỒ CHÍ MINH | F2: Độc lập - Tự do - Hạnh phúc
A3: TRƯỜNG CAO ĐẲNG KỸ THUẬT
A4: LÝ TỰ TRỌNG
A6: DANH SÁCH HỌC SINH THỰC TẬP NHẬN TIỀN PHỤ CẤP CƠM TRƯA THÁNG 7 NĂM 2013
A7: ='CN BC'!#REF! -> #REF!
B8: 20000
A9: STT | B9: Họ và tên | F9: Đơn vị | G9: Số ngày công | H9: Số tiền | I9: Ghi chú | K9: Ký Nhận
A10: 06 | B10: Huỳnh Hoàng | C10: TRIỀU | F10: K. CN May Thời trang | H10: =G10*$B$8 -> 0 | I10: =A10 -> 06
A11: 07 | B11: Đặng Văn | C11: CƯƠNG | H11: =G11*$B$8 -> 0 | I11: =A11 -> 07
A12: 08 | B12: Lê Văn | C12: TUÂN | H12: =G12*$B$8 -> 0 | I12: =A12 -> 08
A13: 09 | B13: Lê Đức | C13: THỊNH | F13: K. Cơ khí | H13: =G13*$B$8 -> 0 | I13: =A13 -> 09
A14: 10 | B14: Lê Cao | C14: PHÁT | H14: =G14*$B$8 -> 0 | I14: =A14 -> 10
A15: 11 | B15: Nguyễn Tấn | C15: PHÚC | F15: K. Điện - Điện tử | H15: =G15*$B$8 -> 0 | I15: =A15 -> 11
A16: 12 | B16: Lê Viết | C16: QUYỀN | H16: =G16*$B$8 -> 0 | I16: =A16 -> 12
A17: 13 | B17: Trịnh Nhất | C17: SINH | H17: =G17*$B$8 -> 0 | I17: =A17 -> 13
A18: 14 | B18: Trịnh Nhật | C18: TRƯỜNG | H18: =G18*$B$8 -> 0 | I18: =A18 -> 14
A19: 15 | B19: Lê Văn | C19: QUÝ | H19: =G19*$B$8 -> 0 | I19: =A19 -> 15
A20: 16 | B20: Đỗ Văn | C20: THỦY | H20: =G20*$B$8 -> 0 | I20: =A20 -> 16
A21: 17 | B21: Lê Minh | C21: TÂM | H21: =G21*$B$8 -> 0 | I21: =A21 -> 17
A22: 18 | B22: Phan Thanh | C22: TUẤN | H22: =G22*$B$8 -> 0 | I22: =A22 -> 18
A23: 19 | B23: Nguyễn Phan Tuấn | C23: VŨ | H23: =G23*$B$8 -> 0 | I23: =A23 -> 19
A24: 20 | B24: Hoàng Thế | C24: ANH | F24: K. Động lực | H24: =G24*$B$8 -> 0 | I24: =A24 -> 20
A25: 21 | B25: Dương Anh Tài | C25: NHÂN | H25: =G25*$B$8 -> 0 | I25: =A25 -> 21
A26: 22 | B26: Trần Quang | C26: HIỀN | H26: =G26*$B$8 -> 0 | I26: =A26 -> 22
A27: 23 | B27: Phạm Quốc | C27: DŨNG | H27: =G27*$B$8 -> 0 | I27: =A27 -> 23
A28: 24 | B28: Lê Ngọc | C28: KÝ | H28: =G28*$B$8 -> 0 | I28: =A28 -> 24
A29: 25 | B29: Nguyễn Thành | C29: CƯỜNG | F29: TT KĐCL& QL CT CTĐT | H29: =G29*$B$8 -> 0 | I29: =A29 -> 25
A30: 26 | B30: Đào Tấn | C30: PHÁT | H30: =G30*$B$8 -> 0 | I30: =A30 -> 26
A31: 27 | B31: Nguyễn Đình | C31: TRƯỜNG | H31: =G31*$B$8 -> 0 | I31: =A31 -> 27
A32: 28 | B32: Phạm Văn | C32: VIÊN | H32: =G32*$B$8 -> 0 | I32: =A32 -> 28
A33: 29 | B33: Nguyễn | C33: ĐỒNG | H33: =G33*$B$8 -> 0 | I33: =A33 -> 29
B34: CỘNG | G34: =SUM(G10:G33) -> 0 | H34: =SUM(H10:H33) -> 0
B36: ="Số tiền bằng chữ: "&[2]!DocSoUniH(H34)&" đồng." -> #NAME?
G37: ='CN BC'!#REF! -> #REF!
A38: NGƯỜI LẬP BẢNG | F38: KẾ TOÁN TRƯỞNG | I38: HIỆU TRƯỞNG
A45: ='CN BC'!A267:D267 -> 0 | F45: Phạm Ngọc Long | I45: Văn Công Sang

Sheet BGH + TCHCTH
A1: ỦY BAN NHÂN DÂN | E1: CỘNG HÒA XÃ HỘI CHỦ NGHĨA VIỆT NAM
A2: THÀNH PHỐ HỒ CHÍ MINH | E2: Độc lập - Tự do - Hạnh phúc
A3: TRƯỜNG CAO ĐẲNG KỸ THUẬT
A4: LÝ TỰ TRỌNG
A6: DANH SÁCH CÁN BỘ - NHÂN VIÊN NHẬN THU NHẬP TĂNG THÊM TIỀN PHỤ CẤP CƠM TRƯA THÁNG 03 NĂM 2013
A7: (Căn cứ bảng chấm công tháng 03/2013 của đơn vị)
B8: 30000
A9: TT | B9: Họ và tên | D9: Số tài khoản thẻ ATM | E9: Số tài khoản thẻ ATM Vietinbank | F9: Đơn vị | G9: Số ngày công | H9: Số tiền | I9: Ghi chú | K9: Ký nhận
A10: 01 | B10: ='CN BC'!C$9 -> Phạm Hữu | C10: ='CN BC'!D$9 -> LỘC | D10: ='CN BC'!#REF! -> #REF! | E10: ='CN BC'!#REF! -> #REF! | F10: =IF('CN BC'!E9<>"",'CN BC'!E9," ") -> Hiệu Trưởng | G10: ='CN BC'!#REF! -> #REF! | H10: ='CN BC'!#REF! -> #REF! | I10: =A10 -> 01 | J10: =IF('CN BC'!G9<>"",'CN BC'!G9," ") | L10: ='CN BC'!A9 -> 1
A11: 02 | B11: ='CN BC'!#REF! -> #REF! | C11: ='CN BC'!#REF! -> #REF! | D11: ='CN BC'!#REF! -> #REF! | E11: ='CN BC'!#REF! -> #REF! | F11: =IF('CN BC'!#REF!<>"",'CN BC'!#REF!," ") -> #REF! | G11: ='CN BC'!#REF! -> #REF! | H11: ='CN BC'!#REF! -> #REF! | I11: =A11 -> 02 | J11: =IF('CN BC'!#REF!<>"",'CN BC'!#REF!," ") -> #REF! | L11: ='CN BC'!#REF! -> #REF!
A12: 03 | B12: ='CN BC'!#REF! -> #REF! | C12: ='CN BC'!#REF! -> #REF! | D12: ='CN BC'!#REF! -> #REF! | E12: ='CN BC'!#REF! -> #REF! | F12: =IF('CN BC'!#REF!<>"",'CN BC'!#REF!," ") -> #REF! | G12: ='CN BC'!#REF! -> #REF! | H12: ='CN BC'!#REF! -> #REF! | I12: =A12 -> 03 | J12: =IF('CN BC'!#REF!<>"",'CN BC'!#REF!," ") -> #REF! | L12: ='CN BC'!#REF! -> #REF!
A13: 04 | B13: ='CN BC'!#REF! -> #REF! | C13: ='CN BC'!#REF! -> #REF! | D13: ='CN BC'!#REF! -> #REF! | E13: ='CN BC'!#REF! -> #REF! | F13: =IF('CN BC'!#REF!<>"",'CN BC'!#REF!," ") -> #REF! | G13: ='CN BC'!#REF! -> #REF! | H13: ='CN BC'!#REF! -> #REF! | I13: =A13 -> 04 | J13: =IF('CN BC'!#REF!<>"",'CN BC'!#REF!," ") -> #REF! | L13: ='CN BC'!#REF! -> #REF!
A14: 05 | B14: ='CN BC'!C11 -> Đinh Hồng | C14: ='CN BC'!D11 -> MINH | D14: ='CN BC'!#REF! -> #REF! | E14: ='CN BC'!#REF! -> #REF! | F14: =IF('CN BC'!E11<>"",'CN BC'!E11," ") -> Phó Hiệu Trưởng | G14: ='CN BC'!#REF! -> #REF! | H14: ='CN BC'!#REF! -> #REF! | I14: =A14 -> 05 | J14: =IF('CN BC'!G11<>"",'CN BC'!G11," ") | L14: ='CN BC'!A11 -> 3
A15: 06 | B15: ='CN BC'!C22 -> Trần Văn Cu | C15: ='CN BC'!D22 -> ANH | D15: ='CN BC'!#REF! -> #REF! | E15: ='CN BC'!#REF! -> #REF! | F15: =IF('CN BC'!E22<>"",'CN BC'!E22," ") | G15: ='CN BC'!#REF! -> #REF! | H15: ='CN BC'!#REF! -> #REF! | I15: =A15 -> 06 | J15: =IF('CN BC'!G22<>"",'CN BC'!G22," ") | L15: ='CN BC'!A22 -> 14
A16: 07 | B16: ='CN BC'!C82 -> Trần Văn | C16: ='CN BC'!D82 -> LÝ | D16: ='CN BC'!#REF! -> #REF! | E16: ='CN BC'!#REF! -> #REF! | F16: =IF('CN BC'!E82<>"",'CN BC'!E82," ") | G16: ='CN BC'!#REF! -> #REF! | H16: ='CN BC'!#REF! -> #REF! | I16: =A16 -> 07 | J16: =IF('CN BC'!G82<>"",'CN BC'!G82," ") | L16: ='CN BC'!A82 -> 74
A17: 08 | B17: ='CN BC'!C13 -> Lê Hùng | C17: ='CN BC'!D13 -> THANH | D17: ='CN BC'!#REF! -> #REF! | E17: ='CN BC'!#REF! -> #REF! | F17: =IF('CN BC'!E13<>"",'CN BC'!E13," ") -> Phòng TC-HC-TH | G17: ='CN BC'!#REF! -> #REF! | H17: ='CN BC'!#REF! -> #REF! | I17: =A17 -> 08 | J17: =IF('CN BC'!G13<>"",'CN BC'!G13," ") | L17: ='CN BC'!A13 -> 5
A18: 09 | B18: ='CN BC'!#REF! -> #REF! | C18: ='CN BC'!#REF! -> #REF! | D18: ='CN BC'!#REF! -> #REF! | E18: ='CN BC'!#REF! -> #REF! | F18: =IF('CN BC'!#REF!<>"",'CN BC'!#REF!," ") -> #REF! | G18: ='CN BC'!#REF! -> #REF! | H18: ='CN BC'!#REF! -> #REF! | I18: =A18 -> 09 | J18: =IF('CN BC'!#REF!<>"",'CN BC'!#REF!," ") -> #REF! | L18: ='CN BC'!#REF! -> #REF!
A19: 10 | B19: ='CN BC'!C35 -> Đỗ Văn | C19: ='CN BC'!D35 -> TRONG | D19: ='CN BC'!#REF! -> #REF! | E19: ='CN BC'!#REF! -> #REF! | F19: =IF('CN BC'!E35<>"",'CN BC'!E35," ") -> Phòng QT - DV | G19: ='CN BC'!#REF! -> #REF! | H19: ='CN BC'!#REF! -> #REF! | I19: =A19 -> 10 | J19: =IF('CN BC'!G35<>"",'CN BC'!G35," ") | L19: ='CN BC'!A35 -> 27
A20: 11 | B20: ='CN BC'!C83 -> Trần Thị Thu | C20: ='CN BC'!D83 -> HÀ | D20: ='CN BC'!#REF! -> #REF! | E20: ='CN BC'!#REF! -> #REF! | F20: =IF('CN BC'!E83<>"",'CN BC'!E83," ") | G20: ='CN BC'!#REF! -> #REF! | H20: ='CN BC'!#REF! -> #REF! | I20: =A20 -> 11 | J20: =IF('CN BC'!G83<>"",'CN BC'!G83," ") | L20: ='CN BC'!A83 -> 75
A21: 12 | B21: ='CN BC'!C14 -> Phan Thị Ngọc | C21: ='CN BC'!D14 -> PHƯỢNG | D21: ='CN BC'!#REF! -> #REF! | E21: ='CN BC'!#REF! -> #REF! | F21: =IF('CN BC'!E14<>"",'CN BC'!E14," ") | G21: ='CN BC'!#REF! -> #REF! | H21: ='CN BC'!#REF! -> #REF! | I21: =A21 -> 12 | J21: =IF('CN BC'!G14<>"",'CN BC'!G14," ") | L21: ='CN BC'!A14 -> 6
A22: 13 | B22: ='CN BC'!C15 -> Vũ Như | C22: ='CN BC'!D15 -> QUỲNH | D22: ='CN BC'!#REF! -> #REF! | E22: ='CN BC'!#REF! -> #REF! | F22: =IF('CN BC'!E15<>"",'CN BC'!E15," ") | G22: ='CN BC'!#REF! -> #REF! | H22: ='CN BC'!#REF! -> #REF! | I22: =A22 -> 13 | J22: =IF('CN BC'!G15<>"",'CN BC'!G15," ") | L22: ='CN BC'!A15 -> 7
A23: 14 | B23: ='CN BC'!C36 -> Nguyễn Trọng | C23: ='CN BC'!D36 -> PHÚ | D23: ='CN BC'!#REF! -> #REF! | E23: ='CN BC'!#REF! -> #REF! | F23: =IF('CN BC'!E36<>"",'CN BC'!E36," ") | G23: ='CN BC'!#REF! -> #REF! | H23: ='CN BC'!#REF! -> #REF! | I23: =A23 -> 14 | J23: =IF('CN BC'!G36<>"",'CN BC'!G36," ") | L23: ='CN BC'!A36 -> 28
A24: 15 | B24: ='CN BC'!C37 -> Vũ Ngọc | C24: ='CN BC'!D37 -> QUANG | D24: ='CN BC'!#REF! -> #REF! | E24: ='CN BC'!#REF! -> #REF! | F24: =IF('CN BC'!E37<>"",'CN BC'!E37," ") | G24: ='CN BC'!#REF! -> #REF! | H24: ='CN BC'!#REF! -> #REF! | I24: =A24 -> 15 | J24: =IF('CN BC'!G37<>"",'CN BC'!G37," ") | L24: ='CN BC'!A37 -> 29
A25: 16 | B25: ='CN BC'!C38 -> Giáp Văn | C25: ='CN BC'!D38 -> THỊNH | D25: ='CN BC'!#REF! -> #REF! | E25: ='CN BC'!#REF! -> #REF! | F25: =IF('CN BC'!E38<>"",'CN BC'!E38," ") | G25: ='CN BC'!#REF! -> #REF! | H25: ='CN BC'!#REF! -> #REF! | I25: =A25 -> 16 | J25: =IF('CN BC'!G38<>"",'CN BC'!G38," ") | L25: ='CN BC'!A38 -> 30
A26: 17 | B26: ='CN BC'!C51 -> Tạ Quốc | C26: ='CN BC'!D51 -> TẤN | D26: =#REF! -> #REF! | E26: =#REF! -> #REF! | F26: =IF('CN BC'!E51<>"",'CN BC'!E51," ") | G26: =#REF! -> #REF! | H26: ='CN BC'!#REF! -> #REF! | I26: =A26 -> 17 | J26: =IF('CN BC'!G51<>"",'CN BC'!G51," ")
A27: 18 | B27: =#REF! -> #REF! | C27: =#REF! -> #REF! | D27: =#REF! -> #REF! | E27: =#REF! -> #REF! | F27: =IF(#REF!<>"",#REF!," ") -> #REF! | G27: =#REF! -> #REF! | H27: =#REF! -> #REF! | I27: =A27 -> 18 | J27: =IF(#REF!<>"",#REF!," ") -> #REF!
A28: 19 | B28: =#REF! -> #REF! | C28: =#REF! -> #REF! | D28: =#REF! -> #REF! | E28: =#REF! -> #REF! | F28: =IF(#REF!<>"",#REF!," ") -> #REF! | G28: =#REF! -> #REF! | H28: =#REF! -> #REF! | I28: =A28 -> 19 | J28: =IF(#REF!<>"",#REF!," ") -> #REF!
A29: 20 | B29: =#REF! -> #REF! | C29: =#REF! -> #REF! | D29: =#REF! -> #REF! | E29: =#REF! -> #REF! | F29: =IF(#REF!<>"",#REF!," ") -> #REF! | G29: =#REF! -> #REF! | H29: =#REF! -> #REF! | I29: =A29 -> 20 | J29: =IF(#REF!<>"",#REF!," ") -> #REF!
A30: 21 | B30: =#REF! -> #REF! | C30: =#REF! -> #REF! | D30: =#REF! -> #REF! | E30: =#REF! -> #REF! | F30: =IF(#REF!<>"",#REF!," ") -> #REF! | G30: =#REF! -> #REF! | H30: =#REF! -> #REF! | I30: =A30 -> 21 | J30: =IF(#REF!<>"",#REF!," ") -> #REF!
A31: 22 | B31: =#REF! -> #REF! | C31: =#REF! -> #REF! | D31: =#REF! -> #REF! | E31: =#REF! -> #REF! | F31: =IF(#REF!<>"",#REF!," ") -> #REF! | G31: =#REF! -> #REF! | H31: =#REF! -> #REF! | I31: =A31 -> 22 | J31: =IF(#REF!<>"",#REF!," ") -> #REF!
A32: 23 | B32: =#REF! -> #REF! | C32: =#REF! -> #REF! | D32: =#REF! -> #REF! | E32: =#REF! -> #REF! | F32: =IF(#REF!<>"",#REF!," ") -> #REF! | G32: =#REF! -> #REF! | H32: =#REF! -> #REF! | I32: =A32 -> 23 | J32: =IF(#REF!<>"",#REF!," ") -> #REF!
A33: 24 | B33: =#REF! -> #REF! | C33: =#REF! -> #REF! | D33: =#REF! -> #REF! | E33: =#REF! -> #REF! | F33: =IF(#REF!<>"",#REF!," ") -> #REF! | G33: =#REF! -> #REF! | H33: =#REF! -> #REF! | I33: =A33 -> 24 | J33: =IF(#REF!<>"",#REF!," ") -> #REF!
A34: 25 | B34: ='CN BC'!C52 -> Trần Thị Kim | C34: ='CN BC'!D52 -> LOAN | D34: =#REF! -> #REF! | E34: =#REF! -> #REF! | F34: =IF('CN BC'!E52<>"",'CN BC'!E52," ") | G34: =#REF! -> #REF! | H34: ='CN BC'!#REF! -> #REF! | I34: =A34 -> 25 | J34: =IF('CN BC'!G52<>"",'CN BC'!G52," ")
A35: 26 | B35: =#REF! -> #REF! | C35: =#REF! -> #REF! | D35: =#REF! -> #REF! | E35: =#REF! -> #REF! | F35: =IF(#REF!<>"",#REF!," ") -> #REF! | G35: =#REF! -> #REF! | H35: =#REF! -> #REF! | I35: =A35 -> 26 | J35: =IF(#REF!<>"",#REF!," ") -> #REF!
A36: 27 | B36: =#REF! -> #REF! | C36: =#REF! -> #REF! | D36: =#REF! -> #REF! | E36: =#REF! -> #REF! | F36: =IF(#REF!<>"",#REF!," ") -> #REF! | G36: =#REF! -> #REF! | H36: =#REF! -> #REF! | I36: =A36 -> 27 | J36: =IF(#REF!<>"",#REF!," ") -> #REF!
A37: 28 | B37: =#REF! -> #REF! | C37: =#REF! -> #REF! | D37: =#REF! -> #REF! | E37: =#REF! -> #REF! | F37: =IF(#REF!<>"",#REF!," ") -> #REF! | G37: =#REF! -> #REF! | H37: =#REF! -> #REF! | I37: =A37 -> 28 | J37: =IF(#REF!<>"",#REF!," ") -> #REF!
A38: 29 | B38: =#REF! -> #REF! | C38: =#REF! -> #REF! | D38: =#REF! -> #REF! | E38: =#REF! -> #REF! | F38: =IF(#REF!<>"",#REF!," ") -> #REF! | G38: =#REF! -> #REF! | H38: =#REF! -> #REF! | I38: =A38 -> 29 | J38: =IF(#REF!<>"",#REF!," ") -> #REF!
A39: 30 | B39: =#REF! -> #REF! | C39: =#REF! -> #REF! | D39: =#REF! -> #REF! | E39: =#REF! -> #REF! | F39: =IF(#REF!<>"",#REF!," ") -> #REF! | G39: =#REF! -> #REF! | H39: =#REF! -> #REF! | I39: =A39 -> 30 | J39: =IF(#REF!<>"",#REF!," ") -> #REF!
A40: 31 | B40: ='CN BC'!#REF! -> #REF! | C40: ='CN BC'!#REF! -> #REF! | D40: ='CN BC'!#REF! -> #REF! | E40: ='CN BC'!#REF! -> #REF! | F40: =IF('CN BC'!#REF!<>"",'CN BC'!#REF!," ") -> #REF! | G40: ='CN BC'!#REF! -> #REF! | H40: ='CN BC'!#REF! -> #REF! | I40: =A40 -> 31 | J40: =IF('CN BC'!#REF!<>"",'CN BC'!#REF!," ") -> #REF!
A41: 32 | B41: ='CN BC'!C74 -> Hồ Thị | C41: ='CN BC'!D74 -> KHUYÊN | D41: =#REF! -> #REF! | E41: =#REF! -> #REF! | F41: =IF('CN BC'!E74<>"",'CN BC'!E74," ") | G41: =#REF! -> #REF! | H41: ='CN BC'!#REF! -> #REF! | I41: =A41 -> 32 | J41: =IF('CN BC'!G74<>"",'CN BC'!G74," ")
A42: 33 | B42: ='CN BC'!C99 -> Thái Thị My | C42: ='CN BC'!D99 -> SA | D42: ='CN BC'!#REF! -> #REF! | E42: ='CN BC'!#REF! -> #REF! | F42: =IF('CN BC'!E99<>"",'CN BC'!E99," ") | G42: =#REF! -> #REF! | H42: ='CN BC'!#REF! -> #REF! | I42: =A42 -> 33 | J42: =IF('CN BC'!G99<>"",'CN BC'!G99," ")
A43: 34 | B43: ='CN BC'!C28 -> Lưu Hoàng Hải | C43: ='CN BC'!D28 -> YẾN | D43: ='CN BC'!#REF! -> #REF! | E43: ='CN BC'!#REF! -> #REF! | F43: =IF('CN BC'!E28<>"",'CN BC'!E28," ") | G43: =#REF! -> #REF! | H43: ='CN BC'!#REF! -> #REF! | I43: =A43 -> 34 | J43: =IF('CN BC'!G28<>"",'CN BC'!G28," ")
A44: 35 | B44: =#REF! -> #REF! | C44: =#REF! -> #REF! | D44: =#REF! -> #REF! | E44: =#REF! -> #REF! | F44: =IF(#REF!<>"",#REF!," ") -> #REF! | G44: =#REF! -> #REF! | H44: =#REF! -> #REF! | I44: =A44 -> 35 | J44: =IF(#REF!<>"",#REF!," ") -> #REF!
A45: 36 | B45: =#REF! -> #REF! | C45: =#REF! -> #REF! | D45: =#REF! -> #REF! | E45: =#REF! -> #REF! | F45: =IF(#REF!<>"",#REF!," ") -> #REF! | G45: =#REF! -> #REF! | H45: =#REF! -> #REF! | I45: =A45 -> 36 | J45: =IF(#REF!<>"",#REF!," ") -> #REF!
A46: 37 | B46: ='CN BC'!C87 -> Nguyễn Trung | C46: ='CN BC'!D87 -> DŨNG | D46: =#REF! -> #REF! | E46: =#REF! -> #REF! | F46: =IF('CN BC'!E87<>"",'CN BC'!E87," ") | G46: =#REF! -> #REF! | H46: ='CN BC'!#REF! -> #REF! | I46: =A46 -> 37 | J46: =IF('CN BC'!G87<>"",'CN BC'!G87," ")
A47: 38 | B47: =#REF! -> #REF! | C47: =#REF! -> #REF! | D47: =#REF! -> #REF! | E47: =#REF! -> #REF! | F47: =IF(#REF!<>"",#REF!," ") -> #REF! | G47: =#REF! -> #REF! | H47: =#REF! -> #REF! | I47: =A47 -> 38 | J47: =IF(#REF!<>"",#REF!," ") -> #REF!
A48: 39 | B48: ='CN BC'!C30 -> Nguyễn Tiến | C48: ='CN BC'!D30 -> HƯNG | D48: =#REF! -> #REF! | E48: =#REF! -> #REF! | F48: =IF('CN BC'!E30<>"",'CN BC'!E30," ") -> Phòng TC-HC-TH | G48: =#REF! -> #REF! | H48: ='CN BC'!#REF! -> #REF! | I48: =A48 -> 39 | J48: =IF('CN BC'!G30<>"",'CN BC'!G30," ")
A49: 40 | B49: =#REF! -> #REF! | C49: =#REF! -> #REF! | D49: =#REF! -> #REF! | E49: =#REF! -> #REF! | F49: =IF(#REF!<>"",#REF!," ") -> #REF! | G49: =#REF! -> #REF! | H49: =#REF! -> #REF! | I49: =A49 -> 40 | J49: =IF(#REF!<>"",#REF!," ") -> #REF!
A50: 41 | B50: =#REF! -> #REF! | C50: =#REF! -> #REF! | D50: =#REF! -> #REF! | E50: =#REF! -> #REF! | F50: =IF(#REF!<>"",#REF!," ") -> #REF! | G50: =#REF! -> #REF! | H50: =#REF! -> #REF! | I50: =A50 -> 41 | J50: =IF(#REF!<>"",#REF!," ") -> #REF!
A51: 42 | B51: =#REF! -> #REF! | C51: =#REF! -> #REF! | D51: =#REF! -> #REF! | E51: =#REF! -> #REF! | F51: =IF(#REF!<>"",#REF!," ") -> #REF! | G51: =#REF! -> #REF! | H51: =#REF! -> #REF! | I51: =A51 -> 42 | J51: =IF(#REF!<>"",#REF!," ") -> #REF!
A52: 43 | B52: ='CN BC'!C31 -> Đồng Anh | C52: ='CN BC'!D31 -> TUẤN | D52: =#REF! -> #REF! | E52: =#REF! -> #REF! | F52: =IF('CN BC'!E31<>"",'CN BC'!E31," ") | G52: =#REF! -> #REF! | H52: ='CN BC'!#REF! -> #REF! | I52: =A52 -> 43 | J52: =IF('CN BC'!G31<>"",'CN BC'!G31," ")
B54: CỘNG | G54: =SUM(G10:G52) -> #REF! | H54: =SUM(H10:H52) -> #REF!
B56: ="Số tiền bằng chữ: " & [1]!DocSoUniH(H54) & " đồng ." -> #NAME?
G58: TPHCM, ngày 04 tháng 04 năm 2013
A59: NGƯỜI LẬP BẢNG | E59: KẾ TOÁN TRƯỞNG | G59: HIỆU TRƯỞNG
A66: Hồ Thị Khuyên | E66: Phạm Ngọc Long | G66: Văn Công Sang

Sheet TRẠM Y TẾ
A1: ỦY BAN NHÂN DÂN | E1: CỘNG HÒA XÃ HỘI CHỦ NGHĨA VIỆT NAM
A2: THÀNH PHỐ HỒ CHÍ MINH | E2: Độc lập - Tự do - Hạnh phúc
A3: TRƯỜNG CAO ĐẲNG KỸ THUẬT
A4: LÝ TỰ TRỌNG
A6: DANH SÁCH CÁN BỘ - NHÂN VIÊN TRẠM Y TẾ NHẬN THU NHẬP TĂNG THÊM TIỀN PHỤ CẤP CƠM TRƯA THÁNG 03 NĂM 2013
A7: (Căn cứ bảng chấm công tháng 03/2013 của đơn vị)
B8: 30000
A9: TT | B9: Họ và tên | D9: Số tài khoản thẻ ATM | E9: Số tài khoản thẻ ATM Vietinbank | F9: Đơn vị | G9: Số ngày công | H9: Số tiền | I9: Ghi chú | K9: Ký nhận
A10: 01 | B10: ='CN BC'!#REF! -> #REF! | C10: ='CN BC'!#REF! -> #REF! | D10: ='CN BC'!#REF! -> #REF! | E10: ='CN BC'!#REF! -> #REF! | F10: =IF('CN BC'!#REF!<>"",'CN BC'!#REF!," ") -> #REF! | G10: ='CN BC'!#REF! -> #REF! | H10: ='CN BC'!#REF! -> #REF! | I10: =A10 -> 01 | J10: =IF('CN BC'!#REF!<>"",'CN BC'!#REF!," ") -> #REF! | L10: ='CN BC'!A9 -> 1
A11: 02 | B11: ='CN BC'!C59 -> Bùi Thị Lan | C11: ='CN BC'!D59 -> ANH | D11: ='CN BC'!#REF! -> #REF! | E11: ='CN BC'!#REF! -> #REF! | F11: =IF('CN BC'!E59<>"",'CN BC'!E59," ") -> Trạm Y tế | G11: ='CN BC'!#REF! -> #REF! | H11: ='CN BC'!#REF! -> #REF! | I11: =A11 -> 02 | J11: =IF('CN BC'!G59<>"",'CN BC'!G59," ") | L11: ='CN BC'!#REF! -> #REF!
A12: 03 | B12: ='CN BC'!C60 -> Lê Thị | C12: ='CN BC'!D60 -> HUYỀN | D12: =#REF! -> #REF! | E12: =#REF! -> #REF! | F12: =IF('CN BC'!E60<>"",'CN BC'!E60,"") | G12: =#REF! -> #REF! | H12: ='CN BC'!#REF! -> #REF! | I12: =A12 -> 03 | J12: =IF('CN BC'!G60<>"",'CN BC'!G60," ") | L12: ='CN BC'!#REF! -> #REF!
B13: CỘNG | G13: =SUM(G10:G12) -> #REF! | H13: =SUM(H10:H12) -> #REF!
B15: ="Số tiền bằng chữ: " & [1]!DocSoUniH(H13) & " đồng ." -> #NAME?
G17: TPHCM, ngày 04 tháng 04 năm 2013
A18: NGƯỜI LẬP BẢNG | E18: KẾ TOÁN TRƯỞNG | G18: HIỆU TRƯỞNG
A25: Hồ Thị Khuyên | E25: Phạm Ngọc Long | G25: Văn Công Sang

Sheet KẾ TOÁN
A1: ỦY BAN NHÂN DÂN | E1: CỘNG HÒA XÃ HỘI CHỦ NGHĨA VIỆT NAM
A2: THÀNH PHỐ HỒ CHÍ MINH | E2: Độc lập - Tự do - Hạnh phúc
A3: TRƯỜNG CAO ĐẲNG KỸ THUẬT
A4: LÝ TỰ TRỌNG
A6: DANH SÁCH CÁN BỘ - NHÂN VIÊN PHÒNG KẾ TOÁN NHẬN THU NHẬP TĂNG THÊM TIỀN PHỤ CẤP CƠM TRƯA THÁNG 03 NĂM 2013
A7: (Căn cứ bảng chấm công tháng 03/2013 của đơn vị)
B8: 30000
A9: TT | B9: Họ và tên | D9: Số tài khoản thẻ ATM | E9: Số tài khoản thẻ ATM Vietinbank | F9: Đơn vị | G9: Số ngày công | H9: Số tiền | I9: Ghi chú | K9: Ký nhận
A10: 01 | B10: ='CN BC'!#REF! -> #REF! | C10: ='CN BC'!#REF! -> #REF! | D10: ='CN BC'!#REF! -> #REF! | E10: ='CN BC'!#REF! -> #REF! | F10: =IF('CN BC'!#REF!<>"",'CN BC'!#REF!,"") -> #REF! | G10: ='CN BC'!#REF! -> #REF! | H10: ='CN BC'!#REF! -> #REF! | I10: =A10 -> 01 | J10: =IF('CN BC'!#REF!<>"",'CN BC'!#REF!," ") -> #REF! | L10: ='CN BC'!A9 -> 1
A11: 02 | B11: ='CN BC'!#REF! -> #REF! | C11: ='CN BC'!#REF! -> #REF! | D11: ='CN BC'!#REF! -> #REF! | E11: ='CN BC'!#REF! -> #REF! | F11: =IF('CN BC'!#REF!<>"",'CN BC'!#REF!,"") -> #REF! | G11: ='CN BC'!#REF! -> #REF! | H11: ='CN BC'!#REF! -> #REF! | I11: =A11 -> 02 | J11: =IF('CN BC'!#REF!<>"",'CN BC'!#REF!," ") -> #REF! | L11: ='CN BC'!#REF! -> #REF!
A12: 03 | B12: ='CN BC'!#REF! -> #REF! | C12: ='CN BC'!#REF! -> #REF! | D12: ='CN BC'!#REF! -> #REF! | E12: ='CN BC'!#REF! -> #REF! | F12: =IF('CN BC'!#REF!<>"",'CN BC'!#REF!,"") -> #REF! | G12: ='CN BC'!#REF! -> #REF! | H12: ='CN BC'!#REF! -> #REF! | I12: =A12 -> 03 | J12: =IF('CN BC'!#REF!<>"",'CN BC'!#REF!," ") -> #REF! | L12: ='CN BC'!#REF! -> #REF!
A13: 04 | B13: ='CN BC'!C61 -> Hồng Mộng Tuyết | C13: ='CN BC'!D61 -> DUNG | D13: ='CN BC'!#REF! -> #REF! | E13: ='CN BC'!#REF! -> #REF! | F13: =IF('CN BC'!E61<>"",'CN BC'!E61,"") -> Phòng KH - TC | G13: ='CN BC'!#REF! -> #REF! | H13: ='CN BC'!#REF! -> #REF! | I13: =A13 -> 04 | J13: =IF('CN BC'!G61<>"",'CN BC'!G61," ") | L13: ='CN BC'!#REF! -> #REF!
A14: 05 | B14: ='CN BC'!C62 -> Trần Thị Minh | C14: ='CN BC'!D62 -> THOA | D14: ='CN BC'!#REF! -> #REF! | E14: ='CN BC'!#REF! -> #REF! | F14: =IF('CN BC'!E62<>"",'CN BC'!E62,"") | G14: ='CN BC'!#REF! -> #REF! | H14: ='CN BC'!#REF! -> #REF! | I14: =A14 -> 05 | J14: =IF('CN BC'!G62<>"",'CN BC'!G62," ") | L14: ='CN BC'!A11 -> 3
A15: 06 | B15: ='CN BC'!C66 -> Trần Thị Thảo | C15: ='CN BC'!D66 -> VÂN | D15: =#REF! -> #REF! | E15: =#REF! -> #REF! | F15: =IF('CN BC'!E66<>"",'CN BC'!E66,"") | G15: =#REF! -> #REF! | H15: ='CN BC'!#REF! -> #REF! | I15: =A15 -> 06 | J15: =IF('CN BC'!G66<>"",'CN BC'!G66,"") | L15: ='CN BC'!A22 -> 14
A16: 07 | B16: =#REF! -> #REF! | C16: =#REF! -> #REF! | D16: =#REF! -> #REF! | E16: =#REF! -> #REF! | F16: =IF(#REF!<>"",#REF!,"") -> #REF! | G16: =#REF! -> #REF! | H16: =#REF! -> #REF! | I16: =A16 -> 07 | J16: =IF(#REF!<>"",#REF!,"") -> #REF! | L16: ='CN BC'!A82 -> 74
A17: 08 | B17: =#REF! -> #REF! | C17: =#REF! -> #REF! | D17: =#REF! -> #REF! | E17: =#REF! -> #REF! | F17: =IF(#REF!<>"",#REF!,"") -> #REF! | G17: =#REF! -> #REF! | H17: =#REF! -> #REF! | I17: =A17 -> 08 | J17: =IF(#REF!<>"",#REF!,"") -> #REF! | L17: ='CN BC'!A13 -> 5
B18: CỘNG | G18: =SUM(G10:G17) -> #REF! | H18: =SUM(H10:H17) -> #REF!
B20: ="Số tiền bằng chữ: " & [1]!DocSoUniH(H18) & " đồng ." -> #NAME?
G22: TPHCM, ngày 04 tháng 04 năm 2013
A23: NGƯỜI LẬP BẢNG | E23: KẾ TOÁN TRƯỞNG | G23: HIỆU TRƯỞNG
A30: Hồ Thị Khuyên | E30: Phạm Ngọc Long | G30: Văn Công Sang

Sheet KHVT
A1: ỦY BAN NHÂN DÂN | E1: CỘNG HÒA XÃ HỘI CHỦ NGHĨA VIỆT NAM
A2: THÀNH PHỐ HỒ CHÍ MINH | E2: Độc lập - Tự do - Hạnh phúc
A3: TRƯỜNG CAO ĐẲNG KỸ THUẬT
A4: LÝ TỰ TRỌNG
A6: DANH SÁCH CÁN BỘ - NHÂN VIÊN PHÒNG KẾ HOẠCH VẬT TƯ NHẬN THU NHẬP TĂNG THÊM - TIỀN PHỤ CẤP CƠM TRƯA THÁNG 03 NĂM 2013
A7: (Căn cứ bảng chấm công tháng 03/2013 của đơn vị)
B8: 30000
A9: TT | B9: Họ và tên | D9: Số tài khoản thẻ ATM | E9: Số tài khoản thẻ ATM Vietinbank | F9: Đơn vị | G9: Số ngày công | H9: Số tiền | I9: Ghi chú | K9: Ký nhận
L10: KHVT
L11: KHVT
L12: ='CN BC'!#REF! -> #REF!
L13: ='CN BC'!#REF! -> #REF!
L14: ='CN BC'!A11 -> 3
L15: ='CN BC'!A22 -> 14
L16: ='CN BC'!A82 -> 74
L17: ='CN BC'!A13 -> 5
B18: CỘNG | G18: =SUM(G10:G17) -> 0 | H18: =SUM(H10:H17) -> 0
B20: ="Số tiền bằng chữ: " & [1]!DocSoUniH(H18) & " đồng ." -> #NAME?
G22: TPHCM, ngày 04 tháng 04 năm 2013
A23: NGƯỜI LẬP BẢNG | E23: KẾ TOÁN TRƯỞNG | G23: HIỆU TRƯỞNG
A30: Hồ Thị Khuyên | E30: Phạm Ngọc Long | G30: Văn Công Sang
